BEGIN:VCALENDAR
VERSION:2.0
PRODID:-//Squarespace Inc/Squarespace 6//v6//EN
BEGIN:VEVENT
UID:5e4e009c21989a778bbdb264@squarespace.com
DTSTAMP:20200220T034631Z
DTSTART:20200306T170000Z
DTEND:20200306T190000Z
SUMMARY:International Womens Day  X The Quartier X Golden Wattle Teas
GEO:-33.861692;151.206939
LOCATION:98 Glocuster Street\, 98 Gloucester Street\, The Rocks\, Australia
END:VEVENT
END:VCALENDAR
